BEGIN:VCALENDAR
VERSION:2.0
PRODID:As tradições estão de regresso a Montoito
X-WR-CALNAME:As tradições estão de regresso a Montoito
X-WR-TIMEZONE:Europe/Lisbon
X-PUBLISHED-TTL:P1W
BEGIN:VTIMEZONE
TZID:Europe/Lisbon
X-LIC-LOCATION:Europe/Lisbon
END:VTIMEZONE
BEGIN:VEVENT
UID:69e7316056d18
DTSTART;VALUE=DATE:20260522
SEQUENCE:0
TRANSP:OPAQUE
DTEND;VALUE=DATE:20260523
SUMMARY:As tradições estão de regresso a Montoito
CLASS:PUBLIC
DESCRIPTION:As tradições estão de regresso a MontoitoMarque já na sua a
 genda!22 Maio - Feira do Espírito Santo23 e 24 de maio - Feira Medieval&n
 bsp\;(Mais informações em breve)
X-MICROSOFT-CDO-ALLDAYEVENT:TRUE
DTSTAMP:20260421T081216Z
END:VEVENT
END:VCALENDAR