BEGIN:VCALENDAR
VERSION:2.0
PRODID:Convívio da Páscoa 2025
X-WR-CALNAME:Convívio da Páscoa 2025
X-WR-TIMEZONE:Europe/Lisbon
X-PUBLISHED-TTL:P1W
BEGIN:VTIMEZONE
TZID:Europe/Lisbon
X-LIC-LOCATION:Europe/Lisbon
END:VTIMEZONE
BEGIN:VEVENT
UID:69e72dbf3d886
DTSTART;VALUE=DATE:20250421
SEQUENCE:0
TRANSP:OPAQUE
DTEND;VALUE=DATE:20250422
SUMMARY:Convívio da Páscoa 2025
CLASS:PUBLIC
DESCRIPTION:Convivio da PáscoaParque de Feiras e Exposições de MontoitoN
 ão Faltes!&nbsp\;
X-MICROSOFT-CDO-ALLDAYEVENT:TRUE
DTSTAMP:20260421T075647Z
END:VEVENT
END:VCALENDAR