BEGIN:VCALENDAR
VERSION:2.0
PRODID:Caminha Dia da Mulher 
X-WR-CALNAME:Caminha Dia da Mulher 
X-WR-TIMEZONE:Europe/Lisbon
X-PUBLISHED-TTL:P1W
BEGIN:VTIMEZONE
TZID:Europe/Lisbon
X-LIC-LOCATION:Europe/Lisbon
END:VTIMEZONE
BEGIN:VEVENT
UID:69e74526c7882
DTSTART;VALUE=DATE:20250315
SEQUENCE:0
TRANSP:OPAQUE
DTEND;VALUE=DATE:20250316
SUMMARY:Caminha Dia da Mulher 
CLASS:PUBLIC
DESCRIPTION:Caminhada Dia da Mulher15 março (sábado)Percurso curtoPartida
 : 9 horas - sede da Junta de FreguesiaInscrições até 6 de março na Jun
 ta de Freguesia ou através de Telefone / Email: 266539144/freguesia.monto
 ito@gmail.com
X-MICROSOFT-CDO-ALLDAYEVENT:TRUE
DTSTAMP:20260421T093638Z
END:VEVENT
END:VCALENDAR