BEGIN:VCALENDAR
VERSION:2.0
PRODID:É Natal na Freguesia de Montoito
X-WR-CALNAME:É Natal na Freguesia de Montoito
X-WR-TIMEZONE:Europe/Lisbon
X-PUBLISHED-TTL:P1W
BEGIN:VTIMEZONE
TZID:Europe/Lisbon
X-LIC-LOCATION:Europe/Lisbon
END:VTIMEZONE
BEGIN:VEVENT
UID:69e9dc2053544
DTSTART;VALUE=DATE:20251213
SEQUENCE:0
TRANSP:OPAQUE
DTEND;VALUE=DATE:20251214
SUMMARY:É Natal na Freguesia de Montoito
CLASS:PUBLIC
DESCRIPTION:É Natal na Freguesia de Montoito13 de 14 de dezembro15h às 17
 h - Passeios de Charrete&nbsp\;Montoito (Junto ao Coreto)
X-MICROSOFT-CDO-ALLDAYEVENT:TRUE
DTSTAMP:20260423T084520Z
END:VEVENT
END:VCALENDAR