BEGIN:VCALENDAR
VERSION:2.0
PRODID:Montoito Medieval 2025
X-WR-CALNAME:Montoito Medieval 2025
X-WR-TIMEZONE:Europe/Lisbon
X-PUBLISHED-TTL:P1W
BEGIN:VTIMEZONE
TZID:Europe/Lisbon
X-LIC-LOCATION:Europe/Lisbon
END:VTIMEZONE
BEGIN:VEVENT
UID:69e9f8969f520
DTSTART;VALUE=DATE:20250607
SEQUENCE:0
TRANSP:OPAQUE
DTEND;VALUE=DATE:20250608
SUMMARY:Montoito Medieval 2025
CLASS:PUBLIC
DESCRIPTION:Montoito Medieval 2025
X-MICROSOFT-CDO-ALLDAYEVENT:TRUE
DTSTAMP:20260423T104646Z
END:VEVENT
END:VCALENDAR