BEGIN:VCALENDAR
VERSION:2.0
PRODID:Feira do Espirito Santo 
X-WR-CALNAME:Feira do Espirito Santo 
X-WR-TIMEZONE:Europe/Lisbon
X-PUBLISHED-TTL:P1W
BEGIN:VTIMEZONE
TZID:Europe/Lisbon
X-LIC-LOCATION:Europe/Lisbon
END:VTIMEZONE
BEGIN:VEVENT
UID:69e7465c52958
DTSTART;VALUE=DATE:20250606
SEQUENCE:0
TRANSP:OPAQUE
DTEND;VALUE=DATE:20250607
SUMMARY:Feira do Espirito Santo 
CLASS:PUBLIC
DESCRIPTION:Feira do Espirito Santo 2025
X-MICROSOFT-CDO-ALLDAYEVENT:TRUE
DTSTAMP:20260421T094148Z
END:VEVENT
END:VCALENDAR